BEGIN:VCALENDAR
VERSION:2.0
PRODID:-//La Grande Via - ECPv6.15.20//NONSGML v1.0//EN
CALSCALE:GREGORIAN
METHOD:PUBLISH
X-WR-CALNAME:La Grande Via
X-ORIGINAL-URL:https://lagrandevia.it
X-WR-CALDESC:Eventi per La Grande Via
REFRESH-INTERVAL;VALUE=DURATION:PT1H
X-Robots-Tag:noindex
X-PUBLISHED-TTL:PT1H
BEGIN:VTIMEZONE
TZID:UTC
BEGIN:STANDARD
TZOFFSETFROM:+0000
TZOFFSETTO:+0000
TZNAME:UTC
DTSTART:20240101T000000
END:STANDARD
END:VTIMEZONE
BEGIN:VEVENT
DTSTART;TZID=UTC:20250116T183000
DTEND;TZID=UTC:20250116T193000
DTSTAMP:20260419T143611
CREATED:20250109T050043Z
LAST-MODIFIED:20250121T093810Z
UID:5842-1737052200-1737055800@lagrandevia.it
SUMMARY:La Via del Tao
DESCRIPTION:Viaggio nella Medicina Tradizionale Cinese\, tra Agopuntura e Metafisica\nScopri i segreti della Medicina Tradizionale Cinese\, dell’agopuntura e della Metafisica in un viaggio affascinante verso antiche conoscenze che risuonano ancora oggi. La Via del Tao è un’esperienza unica per esplorare pratiche millenarie che uniscono corpo\, mente e spirito\, guidati da Silvia Del Conte ed Enrica Bortolazzi. \nChi è Silvia Del Conte?\nSilvia Del Conte ha compiuto i propri studi e si è laureata in Medicina Tradizionale Cinese in Cina.  \nÈ una consulente in Metafisica Cinese\, con una formazione in giurisprudenza e una lunga esperienza nel supporto umanitario. Nel tempo ha consolidato le sue conoscenze sulla cultura e le pratiche orientali\, approfondendo discipline come il Feng Shui e la Metafisica. \nFondatrice di una Onlus a favore di donne vittime di violenza e bambini di strada\, la sua organizzazione è cresciuta fino a diventare una realtà internazionale registrata in Nepal. Durante il suo periodo in Nepal\, Silvia ha integrato pratiche come lo sciamanesimo e l’agopuntura\, che l’hanno guidata verso una maggiore consapevolezza della sua vocazione. \nLa sua esperienza a Creta l’ha ulteriormente avvicinata a culture antiche e alla loro spiritualità\, mentre il ritorno in Italia ha segnato l’inizio di un nuovo capitolo dedicato alla consulenza e alla formazione\, condividendo il suo bagaglio culturale e spirituale con chi cerca crescita personale e armonia. \nChi è Enrica Bortolazzi?\nEnrica Bortolazzi è una ricercatrice dell’anima e dell’essenza della vita. Fondatrice e presidente de La Grande Via\, ha dedicato la sua esistenza a esplorare e condividere i sentieri che conducono all’armonia interiore ed esteriore. La sua formazione eclettica\, che abbraccia una laurea al DAMS di Bologna\, il giornalismo\, la scrittura\, la fotografia di reportage e l’insegnamento dello yoga\, si intreccia con la sua profonda vocazione per l’incontro umano e la conoscenza spirituale. \nNei suoi incessanti viaggi\, sia interiori che nel mondo\, Enrica ha cercato di cogliere e raccontare il mistero dell’esistenza. Questa ricerca è racchiusa nelle pagine dei suoi libri\, come Nel silenzio dell’eremo (Mondadori\, 2019)\, in dialogo con i monaci di Camaldoli\, e La danza dei semi stellati (Trigono\, 2020). Con Franco Berrino ha scritto Il Mandala della vita (Mondadori\, 2021) e La Foresta di Perle (Solferino\, 2022)\, opere che intrecciano saggezza antica e riflessioni contemporanee. \nCon eleganza\, sensibilità e una profonda gratitudine verso la vita\, Enrica continua a seminare nel mondo messaggi di bellezza\, consapevolezza e amore universale. \nCosa ti aspetta?\nUn viaggio guidato che esplora: \n•⁠ ⁠I principi della Medicina Tradizionale Cinese e il loro impatto sulla salute e sul benessere.\n•⁠ ⁠L’agopuntura e il suo ruolo come pratica di guarigione e armonizzazione.\n•⁠ ⁠La Metafisica e il suo potenziale per comprendere il mondo e se stessi in modo profondo. \nQuesto webinar gratuito è un’opportunità offerta da La Grande Via per avvicinarsi a saperi antichi\, scoprirne l’applicazione pratica e riflettere su come possano arricchire la nostra vita quotidiana. \nIscriviti compilando la richiesta di iscrizione.
URL:https://lagrandevia.it/evento/la-via-del-tao/
LOCATION:Online\, \,\, Diretta gratuita
CATEGORIES:Diretta online
ATTACH;FMTTYPE=image/jpeg:https://lagrandevia.it/wp-content/uploads/2025/01/medicina_trad_cinese-scaled.jpeg
ORGANIZER;CN="La Grande Via":MAILTO:info@lagrandevia.it
END:VEVENT
END:VCALENDAR