BEGIN:VCALENDAR
VERSION:2.0
PRODID:-//La Grande Via - ECPv6.15.20//NONSGML v1.0//EN
CALSCALE:GREGORIAN
METHOD:PUBLISH
X-WR-CALNAME:La Grande Via
X-ORIGINAL-URL:https://lagrandevia.it
X-WR-CALDESC:Eventi per La Grande Via
REFRESH-INTERVAL;VALUE=DURATION:PT1H
X-Robots-Tag:noindex
X-PUBLISHED-TTL:PT1H
BEGIN:VTIMEZONE
TZID:UTC
BEGIN:STANDARD
TZOFFSETFROM:+0000
TZOFFSETTO:+0000
TZNAME:UTC
DTSTART:20250101T000000
END:STANDARD
END:VTIMEZONE
BEGIN:VEVENT
DTSTART;VALUE=DATE:20260503
DTEND;VALUE=DATE:20260520
DTSTAMP:20260419T142024
CREATED:20251204T134029Z
LAST-MODIFIED:20260219T094850Z
UID:9616-1777766400-1779235199@lagrandevia.it
SUMMARY:Viaggio nel soffio del Dao
DESCRIPTION:È un cammino che non si impara\, ma si rivela nel silenzio\, nell’equilibrio\, nella naturalezza del vivere. \nI saggi dicono: “non cercare la Via\, lascia che la Via ti trovi”. \nCi sono viaggi che si fanno con i piedi e viaggi che si compiono con il respiro. Quando la mente è stanca di capire\, il cuore comincia a vedere. \nLa Cina antica che incontreremo è un’esperienza unica\, i templi parlano in silenzio di un’inaudita Bellezza\, l’aria conserva ancora la memoria dei Saggi dove l’insegnamento è il non cercare risposte ma l’arte di non fare domande. \nAccompagnano il viaggio:\n\nSilvia Del Conte – Consulente in Metafisica Cinese e laureata in Medicina Tradizionale Cinese a Pechino\, appassionata di pratiche taoiste\, con una lunga esperienza internazionale a supporto della crescita spirituale e umana.\nEnrica Bortolazzi – Fondatrice e presidente de La Grande Via\, viaggiatrice dell’anima\, giornalista\, scrittrice e insegnante di yoga\, ha scritto opere che intrecciano saggezza antica e riflessioni contemporanee\, ed è ideatrice e regista del docufilm “La foresta di perle”.\n\nNote importanti per il viaggiatore:\nL’itinerario è indicato per i viaggiatori che sono disposti a rinunciare a qualche comfort pur di vivere un’esperienza autentica a contatto con un mondo antico sconosciuto al turismo di massa. Per affrontare questo viaggio è richiesto un buon spirito di adattamento. \nMaggiori informazioni e il programma a questo link: Il soffio del Dao 3-19 maggio 2026 \n 
URL:https://lagrandevia.it/evento/viaggio-nel-soffio-del-dao/
LOCATION:Pechino\, Pechino\, Cina\, China
CATEGORIES:Viaggi
ATTACH;FMTTYPE=image/jpeg:https://lagrandevia.it/wp-content/uploads/2025/12/7cina_rid.jpeg
END:VEVENT
BEGIN:VEVENT
DTSTART;VALUE=DATE:20260508
DTEND;VALUE=DATE:20260524
DTSTAMP:20260419T142024
CREATED:20251217T085554Z
LAST-MODIFIED:20260129T162036Z
UID:9698-1778198400-1779580799@lagrandevia.it
SUMMARY:La Via della Bellezza
DESCRIPTION:In Giappone\, Haru\, la primavera\, è la stagione più attesa\, la più celebrata. Non è un semplice cambiamento climatico ma è una importante trasformazione: il lungo e freddo inverno è finalmente terminato\, uomo e natura si intrecciano in un vero e proprio rituale collettivo. \nUn’esplosione di colori e di vitalità che coinvolge tutto il creato\, una danza armonica\, una melodia dalle note senza tempo che ogni anno si ripresenta regalando senso di gratitudine e speranza. \nIl significato dell’ideogramma 道 Michi è “strada”\, “percorso”\, ma nel suo cuore contiene molto di più: metodo\, cerimonia\, etica\, viaggio interiore. \n美への道 — La Via della Bellezza — è un cammino di scoperta\, un itinerario sensoriale e spirituale nel cuore del Giappone più autentico. Un viaggio che attraversa templi\, villaggi e giardini\, ma soprattutto attraversa noi stessi. \nVi invitiamo a leggere maggiori dettagli e scaricare il programma dettagliato del viaggio QUI:
URL:https://lagrandevia.it/evento/la-via-della-bellezza-2/
LOCATION:Shikoku\, Shikoku\, Giappone
CATEGORIES:Viaggi
ATTACH;FMTTYPE=image/jpeg:https://lagrandevia.it/wp-content/uploads/2025/12/copertina.jpg
ORGANIZER;CN="La Grande Via con Le Tre Vie":MAILTO:rigenerarsi@letrevie.it
END:VEVENT
END:VCALENDAR