BEGIN:VCALENDAR
VERSION:2.0
PRODID:-//La Grande Via - ECPv6.15.20//NONSGML v1.0//EN
CALSCALE:GREGORIAN
METHOD:PUBLISH
X-WR-CALNAME:La Grande Via
X-ORIGINAL-URL:https://lagrandevia.it
X-WR-CALDESC:Eventi per La Grande Via
REFRESH-INTERVAL;VALUE=DURATION:PT1H
X-Robots-Tag:noindex
X-PUBLISHED-TTL:PT1H
BEGIN:VTIMEZONE
TZID:UTC
BEGIN:STANDARD
TZOFFSETFROM:+0000
TZOFFSETTO:+0000
TZNAME:UTC
DTSTART:20250101T000000
END:STANDARD
END:VTIMEZONE
BEGIN:VEVENT
DTSTART;VALUE=DATE:20260618
DTEND;VALUE=DATE:20260702
DTSTAMP:20260419T200721
CREATED:20250828T071826Z
LAST-MODIFIED:20260129T162104Z
UID:9433-1781740800-1782950399@lagrandevia.it
SUMMARY:Perù: il cammino degli dei
DESCRIPTION:C’è un filo invisibile che attraversa le Ande.Un filo antico\, intessuto di silenzio e di luce\, di passi millenari e memorie scolpite nella pietra. Questo viaggio non è un semplice itinerario: è una soglia. \nDal respiro leggero di Arequipa\, la città bianca ai piedi dei vulcani\, al blu senza tempo del Lago Titicaca\, dove le isole galleggianti degli Uros insegnano la leggerezza e la forza della comunità.Da Cusco\, ombelico del mondo inca\, che accoglie con le sue mura sacre e la grande festa del solstizio d’inverno\, l’Inti Raymi\, al cammino silenzioso verso la Montagna dei Sette Colori\, altare naturale dipinto dalla terra stessa. \nSi percorre la Valle Sacra\, tra terrazze di pietra\, mercati di tessuti e saline che brillano come specchi minerali\, fino a raggiungere Machu Picchu\, città sospesa tra cielo e selva\, sogno inciso nella roccia che ancora oggi ci interroga con il suo mistero. \nQuesto è un viaggio di pelle e di spirito\, di ascolto e trasformazione.Un percorso che nasce in Perù\, ma che termina molto più dentro: nel cuore di chi sceglie di attraversarlo. \nAd accompagnare questo cammino ci saranno voci diverse ma unite da un unico intento: custodire l’anima del viaggio. \n\n\nLuigi Gatti\, scrittore ed esperto di cultura giapponese\, con lo sguardo attento di chi sa cogliere i legami invisibili tra mondi lontani. \n\n\nCarolina Sotomayor Bellido\, nata a Cusco\, viaggiatrice e ricercatrice delle tradizioni vive dell’America Latina\, ponte autentico tra la saggezza ancestrale e il nostro passo presente. \n\n\nNote importanti per il viaggiatore\nL’itinerario è indicato per i viaggiatori che sono disposti a rinunciare a qualche comfort pur di vivere un’esperienza autentica a contatto con un mondo antico sconosciuto al turismo di massa. Per affrontare questo viaggio è richiesto un buon spirito di adattamento. \nMaggiori informazioni e il programma dettagliato a questo link: Il filo invisibile delle Ande
URL:https://lagrandevia.it/evento/unitedcolorsofperu/
LOCATION:Lima\, Lima\, Perù\, Peru
CATEGORIES:Viaggi
ATTACH;FMTTYPE=image/png:https://lagrandevia.it/wp-content/uploads/2025/08/montagne-peru-rid-scaled.png
ORGANIZER;CN="La Grande Via con Le Tre Vie":MAILTO:rigenerarsi@letrevie.it
END:VEVENT
BEGIN:VEVENT
DTSTART;VALUE=DATE:20260929
DTEND;VALUE=DATE:20261014
DTSTAMP:20260419T200721
CREATED:20260413T154855Z
LAST-MODIFIED:20260413T154959Z
UID:10634-1790640000-1791935999@lagrandevia.it
SUMMARY:La Grande Via del Nord
DESCRIPTION:Un viaggio entusiasmante e profondo alla scoperta delle antiche fonti filosofico-spirituali che hanno plasmato la cultura del Paese del Sol Levante. \nVi invitiamo a leggere maggiori dettagli e scaricare il programma dettagliato del viaggio QUI:
URL:https://lagrandevia.it/evento/la-grande-via-del-nord-2/
LOCATION:Giappone del Nord
CATEGORIES:Viaggi
ATTACH;FMTTYPE=image/jpeg:https://lagrandevia.it/wp-content/uploads/2026/04/nord6.jpeg
ORGANIZER;CN="La Grande Via con Le Tre Vie":MAILTO:rigenerarsi@letrevie.it
END:VEVENT
END:VCALENDAR